BEGIN:VCALENDAR
METHOD:PUBLISH
PRODID:-//LogicWorks GmbH//NONSGML Contentory//EN
VERSION:2.0
BEGIN:VEVENT
DTSTAMP:20260424T001500Z
SUMMARY:Advanced Course: Multiscale Computational Methods in Bioprocesses
DESCRIPTION:Register now for an advanced course\, hosted by the Biotech Campus in Delf
 t
LOCATION:Delft\, Netherlands
CREATED:20180619T180132
LAST-MODIFIED:20180621T114905
DTSTART;VALUE=DATE:20181119T000100
DTEND;VALUE=DATE:20181123T000100
UID:sn_Advanced_Course_Multiscale_Computational_Methods_in_Bioprocesses@logic-
 works.net
END:VEVENT
END:VCALENDAR